BEGIN:VCALENDAR
VERSION:2.0
PRODID:-//stemlibrarylab.org//NONSGML kigkonsult.se iCalcreator 2.30.10//
CALSCALE:GREGORIAN
METHOD:PUBLISH
UID:093b1822-0c96-44a9-b393-9308272140e9
X-WR-CALDESC:Join us for an inspiring Community of Practice event with Indi
 a Pursell from The Brain Institute! This Brain Workshop will take place on
  Monday\, December 9\, at 4 PM at the STEM Library Lab. Ms. Pursell will s
 hare her expertise on integrating health-focused tools from our Equipment 
 Lending Co-op into your teaching.\n\nDuring this workshop\, Ms. Pursell wi
 ll guide you through the use of various health tools available at the co-o
 p\, including STEM Library Lab's brain collection\, distortion goggles\, a
 nd more. You’ll learn how to bring these resources into your classroom to 
 create engaging labs and activities that promote hands-on learning and dee
 pen your students' understanding of health and wellness.\n\nSpots are limi
 ted\, so be sure to reserve your place! Don’t miss this chance to explore 
 new ways to inspire your students with real-world applications and dynamic
  learning tools.\n\nSign up now to secure your spot and take the first ste
 p toward enhancing your classroom experience.
X-WR-RELCALID:06181bf59cf2932e73f50249ff6168f8
X-WR-TIMEZONE:America/Chicago
BEGIN:VTIMEZONE
TZID:America/Chicago
BEGIN:STANDARD
TZNAME:CST
DTSTART:20241103T020000
TZOFFSETFROM:-0500
TZOFFSETTO:-0600
RDATE:20251102T020000
END:STANDARD
BEGIN:DAYLIGHT
TZNAME:CDT
DTSTART:20240310T020000
TZOFFSETFROM:-0600
TZOFFSETTO:-0500
RDATE:20250309T020000
RDATE:20260308T020000
END:DAYLIGHT
END:VTIMEZONE
BEGIN:VEVENT
UID:9d8526c9-ef0c-4f2f-be90-42c28a9eee06
DTSTAMP:20260421T093451Z
DESCRIPTION:Join us for an inspiring Community of Practice event with India
  Pursell from The Brain Institute! This Brain Workshop will take place on 
 Monday\, December 9\, at 4 PM at the STEM Library Lab. Ms. Pursell will sh
 are her expertise on integrating health-focused tools from our Equipment L
 ending Co-op into your teaching.\n\nDuring this workshop\, Ms. Pursell wil
 l guide you through the use of various health tools available at the co-op
 \, including STEM Library Lab's brain collection\, distortion goggles\, an
 d more. You’ll learn how to bring these resources into your classroom to c
 reate engaging labs and activities that promote hands-on learning and deep
 en your students' understanding of health and wellness.\n\nSpots are limit
 ed\, so be sure to reserve your place! Don’t miss this chance to explore n
 ew ways to inspire your students with real-world applications and dynamic 
 learning tools.\n\nSign up now to secure your spot and take the first step
  toward enhancing your classroom experience.
DTSTART;TZID=America/Chicago:20250121T160000
DTEND;TZID=America/Chicago:20250121T180000
LOCATION:3011 N I-10 Service Rd E\, Metairie\, LA 70002 US
SUMMARY:Brain Institute Community of Practice with India Pursell
END:VEVENT
END:VCALENDAR
