BEGIN:VCALENDAR
VERSION:2.0
PRODID:-//stemlibrarylab.org//NONSGML kigkonsult.se iCalcreator 2.30.10//
CALSCALE:GREGORIAN
METHOD:PUBLISH
UID:ed1233d4-be63-4216-812c-e5fe84b4889c
X-WR-CALDESC:Discover how Vernier’s industry-standard probes can transform 
 your middle and high school science lessons at our Communities of Practice
  event. Learn to use tools like Motion Detectors\, CO2 Detectors\, pH Prob
 es\, and more with Graphical Analysis software on Chromebooks\, iPads\, an
 d other devices.\n\nOur STEM Library Lab Librarian\, Szabi\, will guide yo
 u through hands-on applications\, helping you integrate these tools into y
 our curriculum for science fairs\, independent projects\, and advanced cla
 ssroom demonstrations.\n\nThis workshop is part of an ongoing Vernier seri
 es that will soon feature video tutorials linked to each tool on our websi
 te\, making it even easier to get started.\n\nSign up now to secure your s
 pot and take the first step toward enhancing your classroom experience.
X-WR-RELCALID:20ea4da7fab860725cb87945cdbae97c
X-WR-TIMEZONE:America/Chicago
BEGIN:VTIMEZONE
TZID:America/Chicago
BEGIN:STANDARD
TZNAME:CST
DTSTART:20241103T020000
TZOFFSETFROM:-0500
TZOFFSETTO:-0600
RDATE:20251102T020000
END:STANDARD
BEGIN:DAYLIGHT
TZNAME:CDT
DTSTART:20240310T020000
TZOFFSETFROM:-0600
TZOFFSETTO:-0500
RDATE:20250309T020000
RDATE:20260308T020000
END:DAYLIGHT
END:VTIMEZONE
BEGIN:VEVENT
UID:1eda3763-e543-411e-8e80-55c0ec3ff869
DTSTAMP:20260421T093333Z
DESCRIPTION:Discover how Vernier’s industry-standard probes can transform y
 our middle and high school science lessons at our Communities of Practice 
 event. Learn to use tools like Motion Detectors\, CO2 Detectors\, pH Probe
 s\, and more with Graphical Analysis software on Chromebooks\, iPads\, and
  other devices.\n\nOur STEM Library Lab Librarian\, Szabi\, will guide you
  through hands-on applications\, helping you integrate these tools into yo
 ur curriculum for science fairs\, independent projects\, and advanced clas
 sroom demonstrations.\n\nThis workshop is part of an ongoing Vernier serie
 s that will soon feature video tutorials linked to each tool on our websit
 e\, making it even easier to get started.\n\nSign up now to secure your sp
 ot and take the first step toward enhancing your classroom experience.
DTSTART;TZID=America/Chicago:20250127T163000
DTEND;TZID=America/Chicago:20250127T180000
LOCATION:3011 N I-10 Service Rd E\, Metairie\, LA 70002 US
SUMMARY:Communities of Practice with Vernier Tools
END:VEVENT
END:VCALENDAR
