BEGIN:VCALENDAR
VERSION:2.0
PRODID:-//stemlibrarylab.org//NONSGML kigkonsult.se iCalcreator 2.30.10//
CALSCALE:GREGORIAN
METHOD:PUBLISH
UID:63bd6606-00af-49f9-94d9-d0f0ae22b6b1
X-WR-CALDESC:Join us for an engaging Meetup Fair on Food Access and Gardeni
 ng on Wednesday\, January 29\, from 4:00–6:00 PM at STEM Library Lab. This
  event is designed to help educators connect with innovative ideas\, resou
 rces\, and local organizations to inspire your teaching.\n\nWhat to Expect
 :\n-Hands-On Resources: Meet 7–10 organizations offering field trips\, in-
 class activities\, and curriculum support \n  focused on gardening and foo
 d access.\n-Enrich Your Lessons: Discover ways to incorporate food systems
 \, classroom gardens\, and food equity into your \n  lessons.\n-Connect an
 d Collaborate: Network with fellow teachers and build valuable partnership
 s—all while enjoying \n  snacks and drinks!\n\nGet ready to explore new op
 portunities for your students and gather tools to plan meaningful learning
  experiences.\n\nRSVP now to reserve your spot TODAY!\n\n
X-WR-RELCALID:ef05dc78d21b8d26ba1c2a2a60131d3a
X-WR-TIMEZONE:America/Chicago
BEGIN:VTIMEZONE
TZID:America/Chicago
BEGIN:STANDARD
TZNAME:CST
DTSTART:20241103T020000
TZOFFSETFROM:-0500
TZOFFSETTO:-0600
RDATE:20251102T020000
END:STANDARD
BEGIN:DAYLIGHT
TZNAME:CDT
DTSTART:20240310T020000
TZOFFSETFROM:-0600
TZOFFSETTO:-0500
RDATE:20250309T020000
RDATE:20260308T020000
END:DAYLIGHT
END:VTIMEZONE
BEGIN:VEVENT
UID:f7cf1a77-9d89-4f6d-8566-83d1225a52f2
DTSTAMP:20260421T093913Z
DESCRIPTION:Join us for an engaging Meetup Fair on Food Access and Gardenin
 g on Wednesday\, January 29\, from 4:00–6:00 PM at STEM Library Lab. This 
 event is designed to help educators connect with innovative ideas\, resour
 ces\, and local organizations to inspire your teaching.\n\nWhat to Expect:
 \n-Hands-On Resources: Meet 7–10 organizations offering field trips\, in-c
 lass activities\, and curriculum support \n  focused on gardening and food
  access.\n-Enrich Your Lessons: Discover ways to incorporate food systems\
 , classroom gardens\, and food equity into your \n  lessons.\n-Connect and
  Collaborate: Network with fellow teachers and build valuable partnerships
 —all while enjoying \n  snacks and drinks!\n\nGet ready to explore new opp
 ortunities for your students and gather tools to plan meaningful learning 
 experiences.\n\nRSVP now to reserve your spot TODAY!\n\n
DTSTART;TZID=America/Chicago:20250129T160000
DTEND;TZID=America/Chicago:20250129T180000
LOCATION:3011 N I-10 Service Rd E\, Metairie\, AL 70002 US
SUMMARY:January Meet-up Fair: Food Access and Gardening
END:VEVENT
END:VCALENDAR
