BEGIN:VCALENDAR
VERSION:2.0
PRODID:-//stemlibrarylab.org//NONSGML kigkonsult.se iCalcreator 2.30.10//
CALSCALE:GREGORIAN
METHOD:PUBLISH
UID:2b3e13b7-14bc-42fe-827f-8b84ff3581f4
X-WR-CALDESC:STEM Library Lab and YEAH! Yoga are teaming up to offer a rela
 xing and rejuvenating yoga series most Thursdays in January. This is your 
 chance to unwind\, recharge\, and learn practices you can bring into your 
 classroom. Bring your mat\, an open mind\, and join fellow educators for t
 his unique wellness experience!
X-WR-RELCALID:6a7cbb09a69c151229266b40b4e8dab0
X-WR-TIMEZONE:America/Chicago
BEGIN:VTIMEZONE
TZID:America/Chicago
BEGIN:STANDARD
TZNAME:CST
DTSTART:20241103T020000
TZOFFSETFROM:-0500
TZOFFSETTO:-0600
RDATE:20251102T020000
END:STANDARD
BEGIN:DAYLIGHT
TZNAME:CDT
DTSTART:20240310T020000
TZOFFSETFROM:-0600
TZOFFSETTO:-0500
RDATE:20250309T020000
RDATE:20260308T020000
END:DAYLIGHT
END:VTIMEZONE
BEGIN:VEVENT
UID:a123558f-456e-48ad-8df8-c83541b8bffe
DTSTAMP:20260421T094059Z
DESCRIPTION:STEM Library Lab and YEAH! Yoga are teaming up to offer a relax
 ing and rejuvenating yoga series most Thursdays in January. This is your c
 hance to unwind\, recharge\, and learn practices you can bring into your c
 lassroom. Bring your mat\, an open mind\, and join fellow educators for th
 is unique wellness experience!
DTSTART;TZID=America/Chicago:20250130T160000
DTEND;TZID=America/Chicago:20250130T180000
LOCATION:3011 N I-10 Service Rd E\, Metairie\, LA 70002 US
SUMMARY:Free Teacher Yoga with YEAH! Yoga
END:VEVENT
END:VCALENDAR
