BEGIN:VCALENDAR
VERSION:2.0
PRODID:-//stemlibrarylab.org//NONSGML kigkonsult.se iCalcreator 2.30.10//
CALSCALE:GREGORIAN
METHOD:PUBLISH
UID:7a7d8707-5a9a-4735-9753-ca4db73e7b96
X-WR-CALDESC:Workshop 1: The Genetics of Sickle Cell Detection and Therapy 
 Unlock the secrets of Sickle Cell Disease with a hands-on investigation! D
 ive into the genetics of the disease\, conduct genetic testing\, and step 
 into the role of medical geneticists performing newborn screenings to unco
 ver disease inheritance and susceptibility. Wrap up with an exploration of
  modern therapies now available for Sickle Cell Disease.\n\nDon’t miss thi
 s opportunity to gain hands-on experience\, network with fellow educators\
 , and enhance your genetics lessons with practical\, real-world applicatio
 ns!\n\nSign up now to secure your spot and take the first step toward enha
 ncing your classroom experience.
X-WR-RELCALID:8aba2f85108d41fbfbf351c37b2ef18c
X-WR-TIMEZONE:America/Chicago
BEGIN:VTIMEZONE
TZID:America/Chicago
BEGIN:STANDARD
TZNAME:CST
DTSTART:20241103T020000
TZOFFSETFROM:-0500
TZOFFSETTO:-0600
RDATE:20251102T020000
END:STANDARD
BEGIN:DAYLIGHT
TZNAME:CDT
DTSTART:20240310T020000
TZOFFSETFROM:-0600
TZOFFSETTO:-0500
RDATE:20250309T020000
RDATE:20260308T020000
END:DAYLIGHT
END:VTIMEZONE
BEGIN:VEVENT
UID:2f1c7a95-ef3a-4e38-8300-f5a9cd7afc0a
DTSTAMP:20260421T080832Z
DESCRIPTION:Workshop 1: The Genetics of Sickle Cell Detection and Therapy U
 nlock the secrets of Sickle Cell Disease with a hands-on investigation! Di
 ve into the genetics of the disease\, conduct genetic testing\, and step i
 nto the role of medical geneticists performing newborn screenings to uncov
 er disease inheritance and susceptibility. Wrap up with an exploration of 
 modern therapies now available for Sickle Cell Disease.\n\nDon’t miss this
  opportunity to gain hands-on experience\, network with fellow educators\,
  and enhance your genetics lessons with practical\, real-world application
 s!\n\nSign up now to secure your spot and take the first step toward enhan
 cing your classroom experience.
DTSTART;TZID=America/Chicago:20250204T160000
DTEND;TZID=America/Chicago:20250204T190000
LOCATION:3011 N I-10 Service Rd E\, Metairie\, AL 70002 US
SUMMARY:Communities of Practice: Workshop 1: The Genetics of Sickle Cell De
 tection and Therapy
END:VEVENT
END:VCALENDAR
