BEGIN:VCALENDAR
VERSION:2.0
PRODID:-//stemlibrarylab.org//NONSGML kigkonsult.se iCalcreator 2.30.10//
CALSCALE:GREGORIAN
METHOD:PUBLISH
UID:a854d380-1c80-4094-8d03-83d60e23c52c
X-WR-CALDESC:Workshop 2: Show Me the Moo-ney! Determine the Genetics of a C
 A$H-Cow Connect genetics to the real-world dairy industry in this interact
 ive session for middle school educators. Learn how DNA evidence can revolu
 tionize agricultural practices through selective breeding. Use agarose ele
 ctrophoresis to genotype bulls and cows for milk protein production\, appl
 y Punnett Squares to predict outcomes\, and recommend the best breeding co
 mbinations to create the ultimate 'Ca$h Cows' for quality cheese productio
 n.\n\nDon’t miss this opportunity to gain hands-on experience\, network wi
 th fellow educators\, and enhance your genetics lessons with practical\, r
 eal-world applications!\n\nSign up now to secure your spot and take the fi
 rst step toward enhancing your classroom experience.
X-WR-RELCALID:904a6e65b4913bd859b5ce996e45ba38
X-WR-TIMEZONE:America/Chicago
BEGIN:VTIMEZONE
TZID:America/Chicago
BEGIN:STANDARD
TZNAME:CST
DTSTART:20241103T020000
TZOFFSETFROM:-0500
TZOFFSETTO:-0600
RDATE:20251102T020000
END:STANDARD
BEGIN:DAYLIGHT
TZNAME:CDT
DTSTART:20240310T020000
TZOFFSETFROM:-0600
TZOFFSETTO:-0500
RDATE:20250309T020000
RDATE:20260308T020000
END:DAYLIGHT
END:VTIMEZONE
BEGIN:VEVENT
UID:e3a91570-6e2f-4b42-9e40-5df54ff8c232
DTSTAMP:20260421T081026Z
DESCRIPTION:Workshop 2: Show Me the Moo-ney! Determine the Genetics of a CA
 $H-Cow Connect genetics to the real-world dairy industry in this interacti
 ve session for middle school educators. Learn how DNA evidence can revolut
 ionize agricultural practices through selective breeding. Use agarose elec
 trophoresis to genotype bulls and cows for milk protein production\, apply
  Punnett Squares to predict outcomes\, and recommend the best breeding com
 binations to create the ultimate 'Ca$h Cows' for quality cheese production
 .\n\nDon’t miss this opportunity to gain hands-on experience\, network wit
 h fellow educators\, and enhance your genetics lessons with practical\, re
 al-world applications!\n\nSign up now to secure your spot and take the fir
 st step toward enhancing your classroom experience.
DTSTART;TZID=America/Chicago:20250206T160000
DTEND;TZID=America/Chicago:20250206T190000
LOCATION:3011 N I-10 Service Rd E\, Metairie\, LA 70002 US
SUMMARY:Communities of Practice Workshop 2: Show Me the Moo-ney! Determine 
 the Genetics of a CA$H-Cow
END:VEVENT
END:VCALENDAR
