BEGIN:VCALENDAR
VERSION:2.0
PRODID:-//stemlibrarylab.org//NONSGML kigkonsult.se iCalcreator 2.30.10//
CALSCALE:GREGORIAN
METHOD:PUBLISH
UID:c55a38fc-215b-44a2-a4f3-f539a8c41eca
X-WR-CALDESC:Join us and gain an overview of K-12 service learning\, the gu
 idelines for STEM Library Lab Service Learning Program\, and guidance on d
 eveloping a project!
X-WR-RELCALID:6352b9e244fb98a16f0e029d1335c976
X-WR-TIMEZONE:America/Chicago
BEGIN:VTIMEZONE
TZID:America/Chicago
BEGIN:STANDARD
TZNAME:CST
DTSTART:20241103T020000
TZOFFSETFROM:-0500
TZOFFSETTO:-0600
RDATE:20251102T020000
END:STANDARD
BEGIN:DAYLIGHT
TZNAME:CDT
DTSTART:20240310T020000
TZOFFSETFROM:-0600
TZOFFSETTO:-0500
RDATE:20250309T020000
RDATE:20260308T020000
END:DAYLIGHT
END:VTIMEZONE
BEGIN:VEVENT
UID:dd5acf49-51aa-4b88-9668-9ca2d31143e5
DTSTAMP:20260421T080815Z
DESCRIPTION:Join us and gain an overview of K-12 service learning\, the gui
 delines for STEM Library Lab Service Learning Program\, and guidance on de
 veloping a project!
DTSTART;TZID=America/Chicago:20250211T170000
DTEND;TZID=America/Chicago:20250211T190000
LOCATION:3011 N I-10 Service Rd E\, Metairie\, LA 70002 US
SUMMARY:Service Learning Basics Workshop
END:VEVENT
END:VCALENDAR
