BEGIN:VCALENDAR
VERSION:2.0
PRODID:-//stemlibrarylab.org//NONSGML kigkonsult.se iCalcreator 2.30.10//
CALSCALE:GREGORIAN
METHOD:PUBLISH
UID:e1ef1640-b219-445b-a116-b569413b6c60
X-WR-CALDESC:
X-WR-RELCALID:7c68565c97df011301c40cc22ed6647b
X-WR-TIMEZONE:America/Chicago
BEGIN:VTIMEZONE
TZID:America/Chicago
BEGIN:STANDARD
TZNAME:CST
DTSTART:20241103T020000
TZOFFSETFROM:-0500
TZOFFSETTO:-0600
RDATE:20251102T020000
END:STANDARD
BEGIN:DAYLIGHT
TZNAME:CDT
DTSTART:20240310T020000
TZOFFSETFROM:-0600
TZOFFSETTO:-0500
RDATE:20250309T020000
RDATE:20260308T020000
END:DAYLIGHT
END:VTIMEZONE
BEGIN:VEVENT
UID:f6c7381c-559f-4802-95bd-4b7170100efb
DTSTAMP:20260421T081000Z
DESCRIPTION:
DTSTART;TZID=America/Chicago:20250213T164500
DTEND;TZID=America/Chicago:20250213T174500
LOCATION:3011 N I-10 Service Rd E\, Metairie\, AL 70002 US
SUMMARY:Free Teacher Yoga with YEAH! Yoga
END:VEVENT
END:VCALENDAR
