BEGIN:VCALENDAR
VERSION:2.0
PRODID:-//stemlibrarylab.org//NONSGML kigkonsult.se iCalcreator 2.30.10//
CALSCALE:GREGORIAN
METHOD:PUBLISH
UID:0075d0a5-a6f6-4853-85ed-c6e4251a17a9
X-WR-CALDESC:Attend one of our Service Learning Grant Writing Support Night
 s at STEM Library Lab\, offered twice a month all throughout application s
 eason\, to support you through the writing process and answer any question
 s you may have!
X-WR-RELCALID:192861e4faf86e34e28ad29c8b4a8959
X-WR-TIMEZONE:America/Chicago
BEGIN:VTIMEZONE
TZID:America/Chicago
BEGIN:STANDARD
TZNAME:CST
DTSTART:20241103T020000
TZOFFSETFROM:-0500
TZOFFSETTO:-0600
RDATE:20251102T020000
END:STANDARD
BEGIN:DAYLIGHT
TZNAME:CDT
DTSTART:20240310T020000
TZOFFSETFROM:-0600
TZOFFSETTO:-0500
RDATE:20250309T020000
RDATE:20260308T020000
END:DAYLIGHT
END:VTIMEZONE
BEGIN:VEVENT
UID:10f7bdee-2131-4f1e-845e-faeaaf2f72c4
DTSTAMP:20260421T080623Z
DESCRIPTION:Attend one of our Service Learning Grant Writing Support Nights
  at STEM Library Lab\, offered twice a month all throughout application se
 ason\, to support you through the writing process and answer any questions
  you may have!
DTSTART;TZID=America/Chicago:20250213T153000
DTEND;TZID=America/Chicago:20250213T193000
LOCATION:3011 N I-10 Service Rd E\, Metairie\, LA 70002 US
SUMMARY:SLP Grant Writing Support Night
END:VEVENT
END:VCALENDAR
