BEGIN:VCALENDAR
VERSION:2.0
PRODID:-//stemlibrarylab.org//NONSGML kigkonsult.se iCalcreator 2.30.10//
CALSCALE:GREGORIAN
METHOD:PUBLISH
UID:23dae605-4c78-4432-a1cd-7827a3d0ce55
X-WR-CALDESC:The STEM Library Lab is thrilled to host a Free Book Shower\, 
 a special event for educators looking to refresh their classroom libraries
  and discover new tools to enhance their teaching. Join us on February 15\
 , from 3:00 PM to 5:00 PM\, and choose from a variety of free books to tak
 e home\, carefully selected to inspire and support your students.\n\nCeleb
 rate the season with Valentine’s Day goodies and Mardi Gras fun while conn
 ecting with fellow educators\, sharing ideas\, and exchanging classroom st
 rategies in a supportive\, collaborative environment.\n\nAs an extra treat
 \, the first 15 attendees will receive an exclusive mystery swag bag!
X-WR-RELCALID:b24188ab47e532316fc3b2e047760d34
X-WR-TIMEZONE:America/Chicago
BEGIN:VTIMEZONE
TZID:America/Chicago
BEGIN:STANDARD
TZNAME:CST
DTSTART:20241103T020000
TZOFFSETFROM:-0500
TZOFFSETTO:-0600
RDATE:20251102T020000
END:STANDARD
BEGIN:DAYLIGHT
TZNAME:CDT
DTSTART:20240310T020000
TZOFFSETFROM:-0600
TZOFFSETTO:-0500
RDATE:20250309T020000
RDATE:20260308T020000
END:DAYLIGHT
END:VTIMEZONE
BEGIN:VEVENT
UID:b4286c20-5226-40de-b90c-d4427b594a17
DTSTAMP:20260421T080851Z
DESCRIPTION:The STEM Library Lab is thrilled to host a Free Book Shower\, a
  special event for educators looking to refresh their classroom libraries 
 and discover new tools to enhance their teaching. Join us on February 15\,
  from 3:00 PM to 5:00 PM\, and choose from a variety of free books to take
  home\, carefully selected to inspire and support your students.\n\nCelebr
 ate the season with Valentine’s Day goodies and Mardi Gras fun while conne
 cting with fellow educators\, sharing ideas\, and exchanging classroom str
 ategies in a supportive\, collaborative environment.\n\nAs an extra treat\
 , the first 15 attendees will receive an exclusive mystery swag bag!
DTSTART;TZID=America/Chicago:20250215T130000
DTEND;TZID=America/Chicago:20250215T170000
LOCATION:3011 N I-10 Service Rd E\, Metairie\, LA 70002 US
SUMMARY:Free Book Shower and Blood Drive
END:VEVENT
END:VCALENDAR
