BEGIN:VCALENDAR
VERSION:2.0
PRODID:-//stemlibrarylab.org//NONSGML kigkonsult.se iCalcreator 2.30.10//
CALSCALE:GREGORIAN
METHOD:PUBLISH
UID:bcf13e1f-d08d-4c77-b37d-b4f02cc8cef2
X-WR-CALDESC:The Ready-to-Go Overview sessions provide an introduction to o
 ur pre-packaged (Ready-to-Go) projects. These sessions cover how to implem
 ent the projects while outlining key expectations and requirements\, inclu
 ding the IPARD cycle and the accompanying lesson plans essential for impac
 tful service learning initiatives.
X-WR-RELCALID:10a687e4457f236b6ba38f20a98d8865
X-WR-TIMEZONE:America/Chicago
BEGIN:VTIMEZONE
TZID:America/Chicago
BEGIN:STANDARD
TZNAME:CST
DTSTART:20241103T020000
TZOFFSETFROM:-0500
TZOFFSETTO:-0600
RDATE:20251102T020000
END:STANDARD
BEGIN:DAYLIGHT
TZNAME:CDT
DTSTART:20240310T020000
TZOFFSETFROM:-0600
TZOFFSETTO:-0500
RDATE:20250309T020000
RDATE:20260308T020000
END:DAYLIGHT
END:VTIMEZONE
BEGIN:VEVENT
UID:d441be21-7545-456c-80f3-113107f21006
DTSTAMP:20260421T080913Z
DESCRIPTION:The Ready-to-Go Overview sessions provide an introduction to ou
 r pre-packaged (Ready-to-Go) projects. These sessions cover how to impleme
 nt the projects while outlining key expectations and requirements\, includ
 ing the IPARD cycle and the accompanying lesson plans essential for impact
 ful service learning initiatives.
DTSTART;TZID=America/Chicago:20250220T110000
DTEND;TZID=America/Chicago:20250220T130000
LOCATION:3011 N I-10 Service Rd E\, Metairie\, LA 70002 US
SUMMARY:Ready-to-Go Overview
END:VEVENT
END:VCALENDAR
