BEGIN:VCALENDAR
VERSION:2.0
PRODID:-//stemlibrarylab.org//NONSGML kigkonsult.se iCalcreator 2.30.10//
CALSCALE:GREGORIAN
METHOD:PUBLISH
UID:4418b441-00f5-432f-8173-71c373f21715
X-WR-CALDESC:Attend one of our Service Learning Grant Writing Support Night
 s at STEM Library Lab\, offered twice a month all throughout application s
 eason\, to support you through the writing process and answer any question
 s you may have!
X-WR-RELCALID:c5af6156954a95ae70028e6796303d7c
X-WR-TIMEZONE:America/Chicago
BEGIN:VTIMEZONE
TZID:America/Chicago
BEGIN:STANDARD
TZNAME:CST
DTSTART:20241103T020000
TZOFFSETFROM:-0500
TZOFFSETTO:-0600
RDATE:20251102T020000
END:STANDARD
BEGIN:DAYLIGHT
TZNAME:CDT
DTSTART:20250309T020000
TZOFFSETFROM:-0600
TZOFFSETTO:-0500
RDATE:20260308T020000
END:DAYLIGHT
END:VTIMEZONE
BEGIN:VEVENT
UID:190dfe88-d25c-4acc-8927-93459badcd6d
DTSTAMP:20260421T044806Z
DESCRIPTION:Attend one of our Service Learning Grant Writing Support Nights
  at STEM Library Lab\, offered twice a month all throughout application se
 ason\, to support you through the writing process and answer any questions
  you may have!
DTSTART;TZID=America/Chicago:20250415T150000
DTEND;TZID=America/Chicago:20250415T180000
LOCATION:3011 N I-10 Service Rd E\, Metairie\, LA 70002 US
SUMMARY:SLP Grant Writing Support Night
END:VEVENT
END:VCALENDAR
