BEGIN:VCALENDAR
VERSION:2.0
PRODID:-//stemlibrarylab.org//NONSGML kigkonsult.se iCalcreator 2.30.10//
CALSCALE:GREGORIAN
METHOD:PUBLISH
UID:6f00c070-2779-45e3-8333-082fefb80298
X-WR-CALDESC:
X-WR-RELCALID:cf235dab51d7b9ae43dca71a689dd9a6
X-WR-TIMEZONE:America/Chicago
BEGIN:VTIMEZONE
TZID:America/Chicago
BEGIN:STANDARD
TZNAME:CST
DTSTART:20241103T020000
TZOFFSETFROM:-0500
TZOFFSETTO:-0600
RDATE:20251102T020000
RDATE:20261101T020000
END:STANDARD
BEGIN:DAYLIGHT
TZNAME:CDT
DTSTART:20250309T020000
TZOFFSETFROM:-0600
TZOFFSETTO:-0500
RDATE:20260308T020000
END:DAYLIGHT
END:VTIMEZONE
BEGIN:VEVENT
UID:ecceb4ad-37b6-40c2-ac90-9619648f1133
DTSTAMP:20260421T151150Z
DESCRIPTION:
DTSTART;TZID=America/Chicago:20250827T160000
DTEND;TZID=America/Chicago:20250827T180000
LOCATION:3011 N I-10 Service Rd E\, Metairie\, LA 70002 US
SUMMARY:August Meet-up Fair: Field Trips and Year-long Projects
END:VEVENT
END:VCALENDAR
