BEGIN:VCALENDAR
VERSION:2.0
PRODID:-//stemlibrarylab.org//NONSGML kigkonsult.se iCalcreator 2.30.10//
CALSCALE:GREGORIAN
METHOD:PUBLISH
UID:2e63a20b-32fc-40ba-8483-c7f4ddfd93ed
X-WR-CALDESC:
X-WR-RELCALID:24e2dcb6579c423326fea36060666c74
X-WR-TIMEZONE:America/Chicago
BEGIN:VTIMEZONE
TZID:America/Chicago
BEGIN:STANDARD
TZNAME:CST
DTSTART:20241103T020000
TZOFFSETFROM:-0500
TZOFFSETTO:-0600
RDATE:20251102T020000
RDATE:20261101T020000
END:STANDARD
BEGIN:DAYLIGHT
TZNAME:CDT
DTSTART:20250309T020000
TZOFFSETFROM:-0600
TZOFFSETTO:-0500
RDATE:20260308T020000
END:DAYLIGHT
END:VTIMEZONE
BEGIN:VEVENT
UID:73a38e8d-fed9-46a5-9547-4cbb1ca47066
DTSTAMP:20260421T131758Z
DESCRIPTION:
DTSTART;TZID=America/Chicago:20250830T050000
DTEND;TZID=America/Chicago:20250901T050001
LOCATION:
SUMMARY:Closed for Labor Day Holiday
END:VEVENT
END:VCALENDAR
