BEGIN:VCALENDAR
VERSION:2.0
PRODID:-//stemlibrarylab.org//NONSGML kigkonsult.se iCalcreator 2.30.10//
CALSCALE:GREGORIAN
METHOD:PUBLISH
UID:9d00df4a-ea01-499a-a65f-a47297b02f30
X-WR-CALDESC:Standards: 4th grade (4-PS3-2)\, Middle School (7-MS-PS3-4\, 8
 -MS-PS3-5)\, Physics
X-WR-RELCALID:465649539f7e1d0ed4dd3c4bd3f49a48
X-WR-TIMEZONE:America/Chicago
BEGIN:VTIMEZONE
TZID:America/Chicago
BEGIN:STANDARD
TZNAME:CST
DTSTART:20241103T020000
TZOFFSETFROM:-0500
TZOFFSETTO:-0600
RDATE:20251102T020000
RDATE:20261101T020000
END:STANDARD
BEGIN:DAYLIGHT
TZNAME:CDT
DTSTART:20250309T020000
TZOFFSETFROM:-0600
TZOFFSETTO:-0500
RDATE:20260308T020000
END:DAYLIGHT
END:VTIMEZONE
BEGIN:VEVENT
UID:7d5e21fa-cdea-4adc-87c2-0f1e589234f2
DTSTAMP:20260420T213021Z
DESCRIPTION:Standards: 4th grade (4-PS3-2)\, Middle School (7-MS-PS3-4\, 8-
 MS-PS3-5)\, Physics
DTSTART;TZID=America/Chicago:20250904T163000
DTEND;TZID=America/Chicago:20250904T180000
LOCATION:3011 N I-10 Service Rd E\, Metairie\, AL 70002 US
SUMMARY:Circuits - The Transfer and Transformation of Energy
END:VEVENT
END:VCALENDAR
