BEGIN:VCALENDAR
VERSION:2.0
PRODID:-//stemlibrarylab.org//NONSGML kigkonsult.se iCalcreator 2.30.10//
CALSCALE:GREGORIAN
METHOD:PUBLISH
UID:a3369faf-bafe-4f84-9ab1-309462ed9452
X-WR-CALDESC:This workshop is designed for current Ready-to-Go Service Lear
 ning Project teachers and will serve as the program orientation for the 20
 25–2026 school year.
X-WR-RELCALID:2573f8d2220ae628d7c4bf2e79c14d1c
X-WR-TIMEZONE:America/Chicago
BEGIN:VTIMEZONE
TZID:America/Chicago
BEGIN:STANDARD
TZNAME:CST
DTSTART:20241103T020000
TZOFFSETFROM:-0500
TZOFFSETTO:-0600
RDATE:20251102T020000
RDATE:20261101T020000
END:STANDARD
BEGIN:DAYLIGHT
TZNAME:CDT
DTSTART:20250309T020000
TZOFFSETFROM:-0600
TZOFFSETTO:-0500
RDATE:20260308T020000
RDATE:20270314T020000
END:DAYLIGHT
END:VTIMEZONE
BEGIN:VEVENT
UID:30df3e01-16b5-4634-9dc2-c7bb229cd672
DTSTAMP:20260420T212814Z
DESCRIPTION:This workshop is designed for current Ready-to-Go Service Learn
 ing Project teachers and will serve as the program orientation for the 202
 5–2026 school year.
DTSTART;TZID=America/Chicago:20250918T173000
DTEND;TZID=America/Chicago:20250918T183000
LOCATION:
SUMMARY:Ready-to-Go Orientation (Current Grant Recipients Only)
END:VEVENT
END:VCALENDAR
