BEGIN:VCALENDAR
VERSION:2.0
PRODID:-//stemlibrarylab.org//NONSGML kigkonsult.se iCalcreator 2.30.10//
CALSCALE:GREGORIAN
METHOD:PUBLISH
UID:ba70e9de-290d-4742-a3bd-41dde66e819d
X-WR-CALDESC:Join us on Wednesday\, Septemebr 24th from 4-6 p.m. at STEM Li
 brary Lab for the Louisiana Alliance for STEM Teaching's Archaeology and L
 ocal History Meet-up Fair!\n\nWhether you're looking for field trips\, les
 son ideas\, push-in activities\, community events or professional learning
  for yourself\, this event is your chance to explore and plan for the spri
 ng semester. Come network with fellow teachers\, enjoy some snacks\, and d
 rinks.\n\nIn addition\, all teachers are eligible for a FREE membership to
  our Equipment Lending Co-op!\n\nDon't miss out—mark your calendars\, and 
 RSVP today!
X-WR-RELCALID:a942c60c4b00f91e5fb02362c0bbed0f
X-WR-TIMEZONE:America/Chicago
BEGIN:VTIMEZONE
TZID:America/Chicago
BEGIN:STANDARD
TZNAME:CST
DTSTART:20241103T020000
TZOFFSETFROM:-0500
TZOFFSETTO:-0600
RDATE:20251102T020000
RDATE:20261101T020000
END:STANDARD
BEGIN:DAYLIGHT
TZNAME:CDT
DTSTART:20250309T020000
TZOFFSETFROM:-0600
TZOFFSETTO:-0500
RDATE:20260308T020000
RDATE:20270314T020000
END:DAYLIGHT
END:VTIMEZONE
BEGIN:VEVENT
UID:27cafa57-dc95-4da1-9c8a-e56bfbbb8e0d
DTSTAMP:20260420T213400Z
DESCRIPTION:Join us on Wednesday\, Septemebr 24th from 4-6 p.m. at STEM Lib
 rary Lab for the Louisiana Alliance for STEM Teaching's Archaeology and Lo
 cal History Meet-up Fair!\n\nWhether you're looking for field trips\, less
 on ideas\, push-in activities\, community events or professional learning 
 for yourself\, this event is your chance to explore and plan for the sprin
 g semester. Come network with fellow teachers\, enjoy some snacks\, and dr
 inks.\n\nIn addition\, all teachers are eligible for a FREE membership to 
 our Equipment Lending Co-op!\n\nDon't miss out—mark your calendars\, and R
 SVP today!
DTSTART;TZID=America/Chicago:20250924T160000
DTEND;TZID=America/Chicago:20250924T180000
LOCATION:3011 N I-10 Service Rd E\, Metairie\, AL 70002 US
SUMMARY:September Meet-up Fair: Archaeology and Local History
END:VEVENT
END:VCALENDAR
