BEGIN:VCALENDAR
VERSION:2.0
PRODID:-//stemlibrarylab.org//NONSGML kigkonsult.se iCalcreator 2.30.10//
CALSCALE:GREGORIAN
METHOD:PUBLISH
UID:5309ceae-552c-42eb-8b84-213ad71f18af
X-WR-CALDESC:Standards: 4th grade - (4-ESS1-1\, 4-ESS2-1\, 4-ESS3-2)\, HS E
 nvironmental Science
X-WR-RELCALID:9b500ef80c9c26f67034036ae6b46be7
X-WR-TIMEZONE:America/Chicago
BEGIN:VTIMEZONE
TZID:America/Chicago
BEGIN:STANDARD
TZNAME:CST
DTSTART:20241103T020000
TZOFFSETFROM:-0500
TZOFFSETTO:-0600
RDATE:20251102T020000
RDATE:20261101T020000
END:STANDARD
BEGIN:DAYLIGHT
TZNAME:CDT
DTSTART:20250309T020000
TZOFFSETFROM:-0600
TZOFFSETTO:-0500
RDATE:20260308T020000
RDATE:20270314T020000
END:DAYLIGHT
END:VTIMEZONE
BEGIN:VEVENT
UID:9e4f45dd-b54d-4e97-baef-ed86b6fc724c
DTSTAMP:20260420T200320Z
DESCRIPTION:Standards: 4th grade - (4-ESS1-1\, 4-ESS2-1\, 4-ESS3-2)\, HS En
 vironmental Science
DTSTART;TZID=America/Chicago:20251002T163000
DTEND;TZID=America/Chicago:20251002T180000
LOCATION:3011 N I-10 Service Rd E\, Metairie\, AL 70002 US
SUMMARY:Communities of Practice | Erosion and Weathering
END:VEVENT
END:VCALENDAR
