BEGIN:VCALENDAR
VERSION:2.0
PRODID:-//stemlibrarylab.org//NONSGML kigkonsult.se iCalcreator 2.30.10//
CALSCALE:GREGORIAN
METHOD:PUBLISH
UID:84c96872-6e23-453f-a2f6-ba24a08f5712
X-WR-CALDESC:From the shoreline to your classroom\n\nExplore Coastal Enviro
 nmental Science + discover classroom opportunities from local organization
 s at our October Meet-Up Fair!
X-WR-RELCALID:d1bbfed7711e666eedc89dbc2a1f5524
X-WR-TIMEZONE:America/Chicago
BEGIN:VTIMEZONE
TZID:America/Chicago
BEGIN:STANDARD
TZNAME:CST
DTSTART:20241103T020000
TZOFFSETFROM:-0500
TZOFFSETTO:-0600
RDATE:20251102T020000
RDATE:20261101T020000
END:STANDARD
BEGIN:DAYLIGHT
TZNAME:CDT
DTSTART:20250309T020000
TZOFFSETFROM:-0600
TZOFFSETTO:-0500
RDATE:20260308T020000
RDATE:20270314T020000
END:DAYLIGHT
END:VTIMEZONE
BEGIN:VEVENT
UID:da6fa0f1-7c7d-4e8e-85c9-43f2bfd319ac
DTSTAMP:20260420T200411Z
DESCRIPTION:From the shoreline to your classroom\n\nExplore Coastal Environ
 mental Science + discover classroom opportunities from local organizations
  at our October Meet-Up Fair!
DTSTART;TZID=America/Chicago:20251022T160000
DTEND;TZID=America/Chicago:20251022T180000
LOCATION:3011 N I-10 Service Rd E\, Metairie\, AL 70002 US
SUMMARY:October Meet-up Fair: Coastal Environmental Science
END:VEVENT
END:VCALENDAR
