BEGIN:VCALENDAR
VERSION:2.0
PRODID:-//stemlibrarylab.org//NONSGML kigkonsult.se iCalcreator 2.30.10//
CALSCALE:GREGORIAN
METHOD:PUBLISH
UID:84a5c5e5-6f80-4166-9f77-68df528e5c5e
X-WR-CALDESC:For teachers with a spark of an idea (or even a full project a
 lready in motion)\, this workshop is for you!\n\nIf you’re dreaming up a “
 from scratch” Service Learning project\, we’ll help you shape it into a vi
 able\, fundable plan just in time for our next application season.\n\nAlre
 ady have a project? Perfect—we’ll show you how to strengthen both the serv
 ice and the learning to make an even bigger impact.\n\n
X-WR-RELCALID:f7acc21436484b29e9c5b2a1aa0e9aa4
X-WR-TIMEZONE:America/Chicago
BEGIN:VTIMEZONE
TZID:America/Chicago
BEGIN:STANDARD
TZNAME:CST
DTSTART:20241103T020000
TZOFFSETFROM:-0500
TZOFFSETTO:-0600
RDATE:20251102T020000
RDATE:20261101T020000
END:STANDARD
BEGIN:DAYLIGHT
TZNAME:CDT
DTSTART:20250309T020000
TZOFFSETFROM:-0600
TZOFFSETTO:-0500
RDATE:20260308T020000
RDATE:20270314T020000
END:DAYLIGHT
END:VTIMEZONE
BEGIN:VEVENT
UID:7439addb-22f2-4f61-a620-d4553d62be91
DTSTAMP:20260422T103230Z
DESCRIPTION:For teachers with a spark of an idea (or even a full project al
 ready in motion)\, this workshop is for you!\n\nIf you’re dreaming up a “f
 rom scratch” Service Learning project\, we’ll help you shape it into a via
 ble\, fundable plan just in time for our next application season.\n\nAlrea
 dy have a project? Perfect—we’ll show you how to strengthen both the servi
 ce and the learning to make an even bigger impact.\n\n
DTSTART;TZID=America/Chicago:20251023T173000
DTEND;TZID=America/Chicago:20251023T183000
LOCATION:
SUMMARY:Homegrown Projects Workshop
END:VEVENT
END:VCALENDAR
