BEGIN:VCALENDAR
VERSION:2.0
PRODID:-//stemlibrarylab.org//NONSGML kigkonsult.se iCalcreator 2.30.10//
CALSCALE:GREGORIAN
METHOD:PUBLISH
UID:c55f786c-7720-4184-96d1-99d4caaf0cce
X-WR-CALDESC:Standards: 1st Grade: 1-PS4-1.\; 4th Grade: 4-PS4-1.\; Middle 
 School: MS-PS4-2. HS Physics\n\nPhenomenon Question: How can sound or ligh
 t make an object move?\n\nThis month’s workshop will focus on waves and ho
 w to demonstrate how waves behave and function to students. We will explor
 e many tools from the Equipment Lending Co-op to demonstrate to students t
 hat waves in fact cause an interaction with objects. By using a speaker to
  show motion\, a boat water\, sand on the beach\,  and a spectrometer to s
 how light causing motion\, students will see how waves can interact with o
 bjects. We will explore the typical movement of waves by using springs and
  slinkys. Finally\, we will look at Spectrometry to show light waves in a 
 spectrum and explore our Spectrum Tubes and other light energy materials. 
 \n\n
X-WR-RELCALID:11619168d4277f7dc2a720a43bdf4dac
X-WR-TIMEZONE:America/Chicago
BEGIN:VTIMEZONE
TZID:America/Chicago
BEGIN:STANDARD
TZNAME:CST
DTSTART:20251102T020000
TZOFFSETFROM:-0500
TZOFFSETTO:-0600
RDATE:20261101T020000
END:STANDARD
BEGIN:DAYLIGHT
TZNAME:CDT
DTSTART:20250309T020000
TZOFFSETFROM:-0600
TZOFFSETTO:-0500
RDATE:20260308T020000
RDATE:20270314T020000
END:DAYLIGHT
END:VTIMEZONE
BEGIN:VEVENT
UID:c4c8588f-c864-4233-a153-647f4be4fc40
DTSTAMP:20260420T182159Z
DESCRIPTION:Standards: 1st Grade: 1-PS4-1.\; 4th Grade: 4-PS4-1.\; Middle S
 chool: MS-PS4-2. HS Physics\n\nPhenomenon Question: How can sound or light
  make an object move?\n\nThis month’s workshop will focus on waves and how
  to demonstrate how waves behave and function to students. We will explore
  many tools from the Equipment Lending Co-op to demonstrate to students th
 at waves in fact cause an interaction with objects. By using a speaker to 
 show motion\, a boat water\, sand on the beach\,  and a spectrometer to sh
 ow light causing motion\, students will see how waves can interact with ob
 jects. We will explore the typical movement of waves by using springs and 
 slinkys. Finally\, we will look at Spectrometry to show light waves in a s
 pectrum and explore our Spectrum Tubes and other light energy materials. 
 \n\n
DTSTART;TZID=America/Chicago:20251106T163000
DTEND;TZID=America/Chicago:20251106T180000
LOCATION:3011 N I-10 Service Rd E\, Metairie\, AL 70002 US
SUMMARY:Communities of Practice | Light Waves & Spectrometry
END:VEVENT
END:VCALENDAR
