BEGIN:VCALENDAR
VERSION:2.0
PRODID:-//stemlibrarylab.org//NONSGML kigkonsult.se iCalcreator 2.30.10//
CALSCALE:GREGORIAN
METHOD:PUBLISH
UID:c56fc499-76d5-4a53-ac64-335855bdd1aa
X-WR-CALDESC:Ready to bring Service Learning into your classroom? 🌟n\nJoin 
 us for a hands-on session where we’ll break down the what\, why\, and how 
 of Service Learning. You’ll get:\n\n✨ An easy overview of K–12 Service Lea
 rning\n✨ The inside scoop on STEM Library Lab’s Service Learning Program\n
 ✨ Tips and guidance to kickstart your own project\n\nCome get inspired\, s
 wap ideas\, and walk away ready to help your students learn while making a
  difference in the community!
X-WR-RELCALID:4b618694039658a012007ff6c3ffe6c0
X-WR-TIMEZONE:America/Chicago
BEGIN:VTIMEZONE
TZID:America/Chicago
BEGIN:STANDARD
TZNAME:CST
DTSTART:20251102T020000
TZOFFSETFROM:-0500
TZOFFSETTO:-0600
RDATE:20261101T020000
END:STANDARD
BEGIN:DAYLIGHT
TZNAME:CDT
DTSTART:20250309T020000
TZOFFSETFROM:-0600
TZOFFSETTO:-0500
RDATE:20260308T020000
RDATE:20270314T020000
END:DAYLIGHT
END:VTIMEZONE
BEGIN:VEVENT
UID:2f9799cb-58a5-4ff7-871d-7c56548138f3
DTSTAMP:20260420T181902Z
DESCRIPTION:Ready to bring Service Learning into your classroom? 🌟n\nJoin u
 s for a hands-on session where we’ll break down the what\, why\, and how o
 f Service Learning. You’ll get:\n\n✨ An easy overview of K–12 Service Lear
 ning\n✨ The inside scoop on STEM Library Lab’s Service Learning Program\n✨
  Tips and guidance to kickstart your own project\n\nCome get inspired\, sw
 ap ideas\, and walk away ready to help your students learn while making a 
 difference in the community!
DTSTART;TZID=America/Chicago:20251113T173000
DTEND;TZID=America/Chicago:20251113T183000
LOCATION:3011 N I-10 Service Rd E\, Metairie\, LA 70002 US
SUMMARY:November Service Learning Basics Workshop
END:VEVENT
END:VCALENDAR
