BEGIN:VCALENDAR
VERSION:2.0
PRODID:-//stemlibrarylab.org//NONSGML kigkonsult.se iCalcreator 2.30.10//
CALSCALE:GREGORIAN
METHOD:PUBLISH
UID:905a8a4f-82dc-4891-ad2e-bd2c1a271171
X-WR-CALDESC:We are closed for the Thanksgiving holiday and will reopen Mon
 day\, December 1st
X-WR-RELCALID:b36498a0480b7c94816ce4578a751b33
X-WR-TIMEZONE:America/Chicago
BEGIN:VTIMEZONE
TZID:America/Chicago
BEGIN:STANDARD
TZNAME:CST
DTSTART:20251102T020000
TZOFFSETFROM:-0500
TZOFFSETTO:-0600
RDATE:20261101T020000
END:STANDARD
BEGIN:DAYLIGHT
TZNAME:CDT
DTSTART:20250309T020000
TZOFFSETFROM:-0600
TZOFFSETTO:-0500
RDATE:20260308T020000
RDATE:20270314T020000
END:DAYLIGHT
END:VTIMEZONE
BEGIN:VEVENT
UID:6419f350-3857-44aa-800d-9501d81b87ee
DTSTAMP:20260420T182159Z
DESCRIPTION:We are closed for the Thanksgiving holiday and will reopen Mond
 ay\, December 1st
DTSTART;TZID=America/Chicago:20251126T050000
DTEND;TZID=America/Chicago:20251130T050001
LOCATION:
SUMMARY:Closed for Thanksgiving Holiday
END:VEVENT
END:VCALENDAR
