BEGIN:VCALENDAR
VERSION:2.0
PRODID:-//stemlibrarylab.org//NONSGML kigkonsult.se iCalcreator 2.30.10//
CALSCALE:GREGORIAN
METHOD:PUBLISH
UID:fdda02c0-7e02-46f8-b1d5-bdf1ac7f1603
X-WR-CALDESC:
X-WR-RELCALID:1212ef6a805ae054935a1ac121b390f3
X-WR-TIMEZONE:America/Chicago
BEGIN:VTIMEZONE
TZID:America/Chicago
BEGIN:STANDARD
TZNAME:CST
DTSTART:20251102T020000
TZOFFSETFROM:-0500
TZOFFSETTO:-0600
RDATE:20261101T020000
END:STANDARD
BEGIN:DAYLIGHT
TZNAME:CDT
DTSTART:20250309T020000
TZOFFSETFROM:-0600
TZOFFSETTO:-0500
RDATE:20260308T020000
RDATE:20270314T020000
END:DAYLIGHT
END:VTIMEZONE
BEGIN:VEVENT
UID:f6ae2a85-b11d-4a7e-8378-1edb12243f92
DTSTAMP:20260420T165016Z
DESCRIPTION:
DTSTART;TZID=America/Chicago:20251203T160000
DTEND;TZID=America/Chicago:20251203T180000
LOCATION:3011 N I-10 Service Rd E\, Metairie\, LA 70002 US
SUMMARY:December Meet-up Fair: Robotics and AI Technology
END:VEVENT
END:VCALENDAR
