BEGIN:VCALENDAR
VERSION:2.0
PRODID:-//stemlibrarylab.org//NONSGML kigkonsult.se iCalcreator 2.30.10//
CALSCALE:GREGORIAN
METHOD:PUBLISH
UID:e2a9bca0-be0b-47fb-bdb7-90464d2861f7
X-WR-CALDESC:Standards: 1st grade - 1-LS1-1 | 4th grade - 4-LS1-1\, 4-LS1-2
   | Middle School - MS-LS4-1. MS-LS4-4 Biology \n\nPhenomenon Question: Ho
 w do plants and Animals survive in different environments?\n\nThe Communit
 ies of Practice workshop for December will focus on traits\, adaptations\,
  and both internal and external parts that help animals and plants survive
  in a particular or changing ecosystem. The workshop will use materials fr
 om the Equipment Lending Co-op to demonstrate and analyze adaptations that
  help an organism survive\, thrive\, and reproduce. We will study our coll
 ection of animal bones and skulls\, animal specimens and x- rays to analyz
 e animal adaptations such as camouflage\, mimicry\, defenses\, and more.
X-WR-RELCALID:304656922443e6f0818df75758f41373
X-WR-TIMEZONE:America/Chicago
BEGIN:VTIMEZONE
TZID:America/Chicago
BEGIN:STANDARD
TZNAME:CST
DTSTART:20251102T020000
TZOFFSETFROM:-0500
TZOFFSETTO:-0600
RDATE:20261101T020000
END:STANDARD
BEGIN:DAYLIGHT
TZNAME:CDT
DTSTART:20250309T020000
TZOFFSETFROM:-0600
TZOFFSETTO:-0500
RDATE:20260308T020000
RDATE:20270314T020000
END:DAYLIGHT
END:VTIMEZONE
BEGIN:VEVENT
UID:56015a6b-b096-41bb-be12-50bcb80c4220
DTSTAMP:20260420T164333Z
DESCRIPTION:Standards: 1st grade - 1-LS1-1 | 4th grade - 4-LS1-1\, 4-LS1-2 
  | Middle School - MS-LS4-1. MS-LS4-4 Biology \n\nPhenomenon Question: How
  do plants and Animals survive in different environments?\n\nThe Communiti
 es of Practice workshop for December will focus on traits\, adaptations\, 
 and both internal and external parts that help animals and plants survive 
 in a particular or changing ecosystem. The workshop will use materials fro
 m the Equipment Lending Co-op to demonstrate and analyze adaptations that 
 help an organism survive\, thrive\, and reproduce. We will study our colle
 ction of animal bones and skulls\, animal specimens and x- rays to analyze
  animal adaptations such as camouflage\, mimicry\, defenses\, and more.
DTSTART;TZID=America/Chicago:20251204T163000
DTEND;TZID=America/Chicago:20251204T180000
LOCATION:3011 N I-10 Service Rd E\, Metairie\, LA 70002 US
SUMMARY:Communities of Practice | Animal Parts\, Functions\, and Adaptation
 s
END:VEVENT
END:VCALENDAR
