BEGIN:VCALENDAR
VERSION:2.0
PRODID:-//stemlibrarylab.org//NONSGML kigkonsult.se iCalcreator 2.30.10//
CALSCALE:GREGORIAN
METHOD:PUBLISH
UID:30bccb37-5576-4792-a3ef-7bd23d760ff0
X-WR-CALDESC:*This virtual workshop is for current (2025-2026 SY) Service L
 earning Teachers*\n\nHave you completed (or close to completing) your demo
 nstration phase? Would you like some support in completing your End-of-Pro
 ject Reports? Tammy will be available to walk you through the submission p
 rocess and answer any questions!
X-WR-RELCALID:5918afff1c446a7bf24030a4333a32fc
X-WR-TIMEZONE:America/Chicago
BEGIN:VTIMEZONE
TZID:America/Chicago
BEGIN:STANDARD
TZNAME:CST
DTSTART:20251102T020000
TZOFFSETFROM:-0500
TZOFFSETTO:-0600
RDATE:20261101T020000
END:STANDARD
BEGIN:DAYLIGHT
TZNAME:CDT
DTSTART:20250309T020000
TZOFFSETFROM:-0600
TZOFFSETTO:-0500
RDATE:20260308T020000
RDATE:20270314T020000
END:DAYLIGHT
END:VTIMEZONE
BEGIN:VEVENT
UID:b333abb1-0c74-4dbb-a045-8b8df457b449
DTSTAMP:20260420T165047Z
DESCRIPTION:*This virtual workshop is for current (2025-2026 SY) Service Le
 arning Teachers*\n\nHave you completed (or close to completing) your demon
 stration phase? Would you like some support in completing your End-of-Proj
 ect Reports? Tammy will be available to walk you through the submission pr
 ocess and answer any questions!
DTSTART;TZID=America/Chicago:20251211T173000
DTEND;TZID=America/Chicago:20251211T183000
LOCATION:https://salesforce.123formbuilder.com/form-6708317/event-registrat
 ion?EventId=a0CQQ0000701zNi
SUMMARY:Service Learning End-of-Project Report Help workshop
END:VEVENT
END:VCALENDAR
