BEGIN:VCALENDAR
VERSION:2.0
PRODID:-//stemlibrarylab.org//NONSGML kigkonsult.se iCalcreator 2.30.10//
CALSCALE:GREGORIAN
METHOD:PUBLISH
UID:52ddb73b-6eed-4c53-bf6e-f85824cd2395
X-WR-CALDESC:This is an exclusive Ready-to-Go (RTG) Orientation for Fall RT
 G awardees who received their award letter and invite in December 2025.
X-WR-RELCALID:3fd6fab0fd88c57c9b7888c9bf6af8ba
X-WR-TIMEZONE:America/Chicago
BEGIN:VTIMEZONE
TZID:America/Chicago
BEGIN:STANDARD
TZNAME:CST
DTSTART:20251102T020000
TZOFFSETFROM:-0500
TZOFFSETTO:-0600
RDATE:20261101T020000
END:STANDARD
BEGIN:DAYLIGHT
TZNAME:CDT
DTSTART:20250309T020000
TZOFFSETFROM:-0600
TZOFFSETTO:-0500
RDATE:20260308T020000
RDATE:20270314T020000
END:DAYLIGHT
END:VTIMEZONE
BEGIN:VEVENT
UID:34d89405-88b4-41fa-87aa-d2269c65b521
DTSTAMP:20260420T151409Z
DESCRIPTION:This is an exclusive Ready-to-Go (RTG) Orientation for Fall RTG
  awardees who received their award letter and invite in December 2025.
DTSTART;TZID=America/Chicago:20260115T173000
DTEND;TZID=America/Chicago:20260115T183000
LOCATION:3011 N I-10 Service Rd E\, Metairie\, LA 70002 US
SUMMARY:Service Learning | Ready-To-Go Orientation
END:VEVENT
END:VCALENDAR
