BEGIN:VCALENDAR
VERSION:2.0
PRODID:-//stemlibrarylab.org//NONSGML kigkonsult.se iCalcreator 2.30.10//
CALSCALE:GREGORIAN
METHOD:PUBLISH
UID:26c45a9c-5e72-4433-8107-f873a8a5895b
X-WR-CALDESC:Explore exciting enrichment opportunities for your students fr
 om a variety of engaging STEM and arts organizations.
X-WR-RELCALID:dcc75ebde0e39df816a029d06c000c8b
X-WR-TIMEZONE:America/Chicago
BEGIN:VTIMEZONE
TZID:America/Chicago
BEGIN:STANDARD
TZNAME:CST
DTSTART:20251102T020000
TZOFFSETFROM:-0500
TZOFFSETTO:-0600
RDATE:20261101T020000
END:STANDARD
BEGIN:DAYLIGHT
TZNAME:CDT
DTSTART:20250309T020000
TZOFFSETFROM:-0600
TZOFFSETTO:-0500
RDATE:20260308T020000
RDATE:20270314T020000
END:DAYLIGHT
END:VTIMEZONE
BEGIN:VEVENT
UID:828e6ee8-2895-4da3-b32b-debb9a2dd407
DTSTAMP:20260420T151229Z
DESCRIPTION:Explore exciting enrichment opportunities for your students fro
 m a variety of engaging STEM and arts organizations.
DTSTART;TZID=America/Chicago:20260121T160000
DTEND;TZID=America/Chicago:20260121T180000
LOCATION:3011 N I-10 Service Rd E\, Metairie\, LA 70002 US
SUMMARY:January Meet-up Fair: STEAM NIGHT!
END:VEVENT
END:VCALENDAR
