BEGIN:VCALENDAR
VERSION:2.0
PRODID:-//stemlibrarylab.org//NONSGML kigkonsult.se iCalcreator 2.30.10//
CALSCALE:GREGORIAN
METHOD:PUBLISH
UID:32a6ce4f-7d7e-4133-9b6f-1273a8189e28
X-WR-CALDESC:ALL SLOTS FOR THE SWEEP HAVE BEEN FILLED!
X-WR-RELCALID:f3e3f3d1c697299aca84912a2f73149f
X-WR-TIMEZONE:America/Chicago
BEGIN:VTIMEZONE
TZID:America/Chicago
BEGIN:STANDARD
TZNAME:CST
DTSTART:20251102T020000
TZOFFSETFROM:-0500
TZOFFSETTO:-0600
RDATE:20261101T020000
END:STANDARD
BEGIN:DAYLIGHT
TZNAME:CDT
DTSTART:20250309T020000
TZOFFSETFROM:-0600
TZOFFSETTO:-0500
RDATE:20260308T020000
RDATE:20270314T020000
END:DAYLIGHT
END:VTIMEZONE
BEGIN:VEVENT
UID:878feb40-dea7-4a19-9826-203767ae0759
DTSTAMP:20260420T150927Z
DESCRIPTION:ALL SLOTS FOR THE SWEEP HAVE BEEN FILLED!
DTSTART;TZID=America/Chicago:20260121T150000
DTEND;TZID=America/Chicago:20260121T180000
LOCATION:3011 N I-10 Service Rd E\, Metairie\, LA 70002 US
SUMMARY:Teacher Free-Store Sweep: Science!
END:VEVENT
END:VCALENDAR
