BEGIN:VCALENDAR
VERSION:2.0
PRODID:-//stemlibrarylab.org//NONSGML kigkonsult.se iCalcreator 2.30.10//
CALSCALE:GREGORIAN
METHOD:PUBLISH
UID:96735101-5340-4f95-872a-7298b4764108
X-WR-CALDESC:
X-WR-RELCALID:ec67748cd289ed26ab86dac822fbf747
X-WR-TIMEZONE:America/Chicago
BEGIN:VTIMEZONE
TZID:America/Chicago
BEGIN:STANDARD
TZNAME:CST
DTSTART:20251102T020000
TZOFFSETFROM:-0500
TZOFFSETTO:-0600
RDATE:20261101T020000
END:STANDARD
BEGIN:DAYLIGHT
TZNAME:CDT
DTSTART:20250309T020000
TZOFFSETFROM:-0600
TZOFFSETTO:-0500
RDATE:20260308T020000
RDATE:20270314T020000
END:DAYLIGHT
END:VTIMEZONE
BEGIN:VEVENT
UID:540f0448-3892-4b09-8c10-e897ce7f971c
DTSTAMP:20260420T105822Z
DESCRIPTION:
DTSTART;TZID=America/Chicago:20260309T050000
DTEND;TZID=America/Chicago:20260504T050001
LOCATION:
SUMMARY:Service Learning Grant Application Open
END:VEVENT
END:VCALENDAR
