BEGIN:VCALENDAR
VERSION:2.0
PRODID:-//stemlibrarylab.org//NONSGML kigkonsult.se iCalcreator 2.30.10//
CALSCALE:GREGORIAN
METHOD:PUBLISH
UID:64402918-d053-4204-8d24-b851a3b6a31a
X-WR-CALDESC:For teachers with a spark of an idea (or even a full project a
 lready in motion)\, this in-person workshop is for you!\nIf you’re dreamin
 g up a “from scratch” Service Learning project\, we’ll help you shape it i
 nto a viable\, fundable plan just in time for our next application season.
 \n\nAlready have a project? Perfect—we’ll show you how to strengthen both 
 the service and the learning to make an even bigger impact.
X-WR-RELCALID:dc99299238457943df06db074ed4cfe7
X-WR-TIMEZONE:America/Chicago
BEGIN:VTIMEZONE
TZID:America/Chicago
BEGIN:STANDARD
TZNAME:CST
DTSTART:20251102T020000
TZOFFSETFROM:-0500
TZOFFSETTO:-0600
RDATE:20261101T020000
END:STANDARD
BEGIN:DAYLIGHT
TZNAME:CDT
DTSTART:20260308T020000
TZOFFSETFROM:-0600
TZOFFSETTO:-0500
RDATE:20270314T020000
END:DAYLIGHT
END:VTIMEZONE
BEGIN:VEVENT
UID:b55cf13c-3591-492e-bff6-727fb421688e
DTSTAMP:20260420T095747Z
DESCRIPTION:For teachers with a spark of an idea (or even a full project al
 ready in motion)\, this in-person workshop is for you!\nIf you’re dreaming
  up a “from scratch” Service Learning project\, we’ll help you shape it in
 to a viable\, fundable plan just in time for our next application season.
 \n\nAlready have a project? Perfect—we’ll show you how to strengthen both 
 the service and the learning to make an even bigger impact.
DTSTART;TZID=America/Chicago:20260312T173000
DTEND;TZID=America/Chicago:20260312T183000
LOCATION:3011 N I-10 Service Rd E\, Metairie\, LA 70002 US
SUMMARY:Service Learning | Homegrown Grant Application Help
END:VEVENT
END:VCALENDAR
