BEGIN:VCALENDAR
VERSION:2.0
PRODID:-//stemlibrarylab.org//NONSGML kigkonsult.se iCalcreator 2.30.10//
CALSCALE:GREGORIAN
METHOD:PUBLISH
UID:fa2d64b1-f10c-4188-835b-8dabee130d04
X-WR-CALDESC:
X-WR-RELCALID:e47afd0762791330797fb1676ede65c0
X-WR-TIMEZONE:America/Chicago
BEGIN:VTIMEZONE
TZID:America/Chicago
BEGIN:STANDARD
TZNAME:CST
DTSTART:20251102T020000
TZOFFSETFROM:-0500
TZOFFSETTO:-0600
RDATE:20261101T020000
END:STANDARD
BEGIN:DAYLIGHT
TZNAME:CDT
DTSTART:20260308T020000
TZOFFSETFROM:-0600
TZOFFSETTO:-0500
RDATE:20270314T020000
END:DAYLIGHT
END:VTIMEZONE
BEGIN:VEVENT
UID:addb59b5-2a15-48de-9964-b09f489fbf62
DTSTAMP:20260420T110138Z
DESCRIPTION:
DTSTART;TZID=America/Chicago:20260408T160000
DTEND;TZID=America/Chicago:20260408T180000
LOCATION:3011 N I-10 Service Rd E\, Metairie\, LA 70002 US
SUMMARY:April Meet-up Fair | Earth Science for Earth Day
END:VEVENT
END:VCALENDAR
