BEGIN:VCALENDAR
VERSION:2.0
PRODID:-//stemlibrarylab.org//NONSGML kigkonsult.se iCalcreator 2.30.10//
CALSCALE:GREGORIAN
METHOD:PUBLISH
UID:5a20f89f-9934-40aa-bca8-1145055871f0
X-WR-CALDESC:Whether you’re looking to transform a corner of your school ca
 mpus or start a 'home-grown' learning project with your students\, our Apr
 il CoP is designed to help you grow—without breaking the bank.\n\nJoin loc
 al gardening expert Rahn Broady for a hands-on session where we’ll ditch t
 he desks and head outside to our pollinator garden.\n\nYou’ll learn the 'd
 irt' on:\n-Site Selection:    Finding the perfect sun-soaked spot.\n-Budge
 t Prep:      Setting up a thriving garden inexpensively.\n-Smart Planting:
  Choosing the right greenery for your space and goals.\n\nPlus\, we’re sen
 ding you home with seeds\, cuttings\, and garden goodies to jumpstart your
  journey!
X-WR-RELCALID:2df6497a0395d7ec0276ab9c329fec95
X-WR-TIMEZONE:America/Chicago
BEGIN:VTIMEZONE
TZID:America/Chicago
BEGIN:STANDARD
TZNAME:CST
DTSTART:20251102T020000
TZOFFSETFROM:-0500
TZOFFSETTO:-0600
RDATE:20261101T020000
END:STANDARD
BEGIN:DAYLIGHT
TZNAME:CDT
DTSTART:20260308T020000
TZOFFSETFROM:-0600
TZOFFSETTO:-0500
RDATE:20270314T020000
END:DAYLIGHT
END:VTIMEZONE
BEGIN:VEVENT
UID:0047f2fa-e57d-4611-b8a2-8582eaa77181
DTSTAMP:20260420T110226Z
DESCRIPTION:Whether you’re looking to transform a corner of your school cam
 pus or start a 'home-grown' learning project with your students\, our Apri
 l CoP is designed to help you grow—without breaking the bank.\n\nJoin loca
 l gardening expert Rahn Broady for a hands-on session where we’ll ditch th
 e desks and head outside to our pollinator garden.\n\nYou’ll learn the 'di
 rt' on:\n-Site Selection:    Finding the perfect sun-soaked spot.\n-Budget
  Prep:      Setting up a thriving garden inexpensively.\n-Smart Planting: 
 Choosing the right greenery for your space and goals.\n\nPlus\, we’re send
 ing you home with seeds\, cuttings\, and garden goodies to jumpstart your 
 journey!
DTSTART;TZID=America/Chicago:20260408T163000
DTEND;TZID=America/Chicago:20260408T180000
LOCATION:3011 N I-10 Service Rd E\, Metairie\, LA 70002 US
SUMMARY:Communities of Practice | How to Start a School Garden for Less
END:VEVENT
END:VCALENDAR
