BEGIN:VCALENDAR
VERSION:2.0
PRODID:-//stemlibrarylab.org//NONSGML kigkonsult.se iCalcreator 2.30.10//
CALSCALE:GREGORIAN
METHOD:PUBLISH
UID:34cbcbc8-e05a-496a-b405-7fd2ca01d63a
X-WR-CALDESC:This workshop is designed for current Homegrown Service Learni
 ng Project teachers and will serve as the program orientation for the 2025
 –2026 school year.
X-WR-RELCALID:cf9063a3a67ed207e0017e6e1d15968e
X-WR-TIMEZONE:America/Chicago
BEGIN:VTIMEZONE
TZID:America/Chicago
BEGIN:STANDARD
TZNAME:CST
DTSTART:20241103T020000
TZOFFSETFROM:-0500
TZOFFSETTO:-0600
RDATE:20251102T020000
RDATE:20261101T020000
END:STANDARD
BEGIN:DAYLIGHT
TZNAME:CDT
DTSTART:20250309T020000
TZOFFSETFROM:-0600
TZOFFSETTO:-0500
RDATE:20260308T020000
END:DAYLIGHT
END:VTIMEZONE
BEGIN:VEVENT
UID:87336a76-cfe1-46bd-be76-1213dbdd8a97
DTSTAMP:20260420T213027Z
DESCRIPTION:This workshop is designed for current Homegrown Service Learnin
 g Project teachers and will serve as the program orientation for the 2025–
 2026 school year.
DTSTART;TZID=America/Chicago:20250904T173000
DTEND;TZID=America/Chicago:20250904T183000
LOCATION:
SUMMARY:Homegrown Project Orientation (Current Grant Recipients Only)
END:VEVENT
END:VCALENDAR
