BEGIN:VCALENDAR
VERSION:2.0
PRODID:-//stemlibrarylab.org//NONSGML kigkonsult.se iCalcreator 2.30.10//
CALSCALE:GREGORIAN
METHOD:PUBLISH
UID:10e18176-ea0a-43d7-ac69-232b33de55ab
X-WR-CALDESC:This workshop is designed for current Coastal Roots Service Le
 arning Project teachers and will serve as the program orientation for the 
 2025–2026 school year.\n\n\n\n
X-WR-RELCALID:1250b271e257760d5a8729a02e829acc
X-WR-TIMEZONE:America/Chicago
BEGIN:VTIMEZONE
TZID:America/Chicago
BEGIN:STANDARD
TZNAME:CST
DTSTART:20241103T020000
TZOFFSETFROM:-0500
TZOFFSETTO:-0600
RDATE:20251102T020000
RDATE:20261101T020000
END:STANDARD
BEGIN:DAYLIGHT
TZNAME:CDT
DTSTART:20250309T020000
TZOFFSETFROM:-0600
TZOFFSETTO:-0500
RDATE:20260308T020000
END:DAYLIGHT
END:VTIMEZONE
BEGIN:VEVENT
UID:b758e814-61bd-46d3-8c47-4af57533c3c8
DTSTAMP:20260421T131759Z
DESCRIPTION:This workshop is designed for current Coastal Roots Service Lea
 rning Project teachers and will serve as the program orientation for the 2
 025–2026 school year.\n\n\n\n
DTSTART;TZID=America/Chicago:20250911T173000
DTEND;TZID=America/Chicago:20250911T183000
LOCATION:
SUMMARY:Coastal Roots Orientation (Current Grant Recipients Only)
END:VEVENT
END:VCALENDAR
