BEGIN:VCALENDAR
VERSION:2.0
PRODID:-//stemlibrarylab.org//NONSGML kigkonsult.se iCalcreator 2.30.10//
CALSCALE:GREGORIAN
METHOD:PUBLISH
UID:73e9ab1e-635c-49f7-a77a-470d2bd056d3
X-WR-CALDESC:This event kicks off the 2025–2026 Service Learning Program\, 
 where teachers and administrators are celebrated and presented with their 
 big checks!\n\n*By Invitation Only*\n
X-WR-RELCALID:6963aa19d280f9c70be21e65e2fc3967
X-WR-TIMEZONE:America/Chicago
BEGIN:VTIMEZONE
TZID:America/Chicago
BEGIN:STANDARD
TZNAME:CST
DTSTART:20241103T020000
TZOFFSETFROM:-0500
TZOFFSETTO:-0600
RDATE:20251102T020000
RDATE:20261101T020000
END:STANDARD
BEGIN:DAYLIGHT
TZNAME:CDT
DTSTART:20250309T020000
TZOFFSETFROM:-0600
TZOFFSETTO:-0500
RDATE:20260308T020000
RDATE:20270314T020000
END:DAYLIGHT
END:VTIMEZONE
BEGIN:VEVENT
UID:ae18363e-842d-4c3b-87d7-303a2c415052
DTSTAMP:20260420T213404Z
DESCRIPTION:This event kicks off the 2025–2026 Service Learning Program\, w
 here teachers and administrators are celebrated and presented with their b
 ig checks!\n\n*By Invitation Only*\n
DTSTART;TZID=America/Chicago:20250925T170000
DTEND;TZID=America/Chicago:20250925T190000
LOCATION:
SUMMARY:Service Learning Awards Reception (Closed event\, by invitation onl
 y)
END:VEVENT
END:VCALENDAR
