BEGIN:VCALENDAR
VERSION:2.0
PRODID:-//stemlibrarylab.org//NONSGML kigkonsult.se iCalcreator 2.30.10//
CALSCALE:GREGORIAN
METHOD:PUBLISH
UID:b1b96597-112e-4ebb-8b0e-9f415ad1c424
X-WR-CALDESC:đź‘©€ŤđźŹ«Ready to bring Service Learning into your classroom? đźŚźn\nJoi
 n us for a hands-on session where weâ€™ll break down the what\, why\, and ho
 w of Service Learning. Youâ€™ll get:\n\nâś¨ An easy overview of Kâ€“12 Service L
 earning\nâś¨ The inside scoop on STEM Library Labâ€™s Service Learning Program
 \nânâ Tips and guidance to kickstart your own project\n\nCome get inspired\,
  swap ideas\, and walk away ready to help your students learn while making
  a difference in the community! \n\n\n
X-WR-RELCALID:06310b105d0d2ffb23f225709d0b99c4
X-WR-TIMEZONE:America/Chicago
BEGIN:VTIMEZONE
TZID:America/Chicago
BEGIN:STANDARD
TZNAME:CST
DTSTART:20241103T020000
TZOFFSETFROM:-0500
TZOFFSETTO:-0600
RDATE:20251102T020000
RDATE:20261101T020000
END:STANDARD
BEGIN:DAYLIGHT
TZNAME:CDT
DTSTART:20250309T020000
TZOFFSETFROM:-0600
TZOFFSETTO:-0500
RDATE:20260308T020000
RDATE:20270314T020000
END:DAYLIGHT
END:VTIMEZONE
BEGIN:VEVENT
UID:16674f0d-8c97-49bc-81db-ce47cf0f56d9
DTSTAMP:20260420T200121Z
DESCRIPTION:đź‘©€ŤđźŹ«Ready to bring Service Learning into your classroom? đźŚźn\nJoin
  us for a hands-on session where weâ€™ll break down the what\, why\, and how
  of Service Learning. Youâ€™ll get:\n\nâś¨ An easy overview of Kâ€“12 Service Le
 arning\nâś¨ The inside scoop on STEM Library Labâ€™s Service Learning Program
 \nânâ Tips and guidance to kickstart your own project\n\nCome get inspired\,
  swap ideas\, and walk away ready to help your students learn while making
  a difference in the community! \n\n\n
DTSTART;TZID=America/Chicago:20251009T173000
DTEND;TZID=America/Chicago:20251009T183000
LOCATION:
SUMMARY:Service Learning Basics Workshop
END:VEVENT
END:VCALENDAR
