BEGIN:VCALENDAR
VERSION:2.0
PRODID:-//stemlibrarylab.org//NONSGML kigkonsult.se iCalcreator 2.30.10//
CALSCALE:GREGORIAN
METHOD:PUBLISH
UID:0a39a4e0-4b63-4e5c-b7f8-c91fd0b1d621
X-WR-CALDESC:For teachers with a spark of an idea (or even a full project a
 lready in motion)\, this in-person workshop is for you!\n\nIf you’re dream
 ing up a “from scratch” Service Learning project\, we’ll help you shape it
  into a viable\, fundable plan just in time for our next application seaso
 n.\n\nAlready have a project? Perfect—we’ll show you how to strengthen bot
 h the service and the learning to make an even bigger impact.
X-WR-RELCALID:ce90bdb60cc9055f8073da56f4a66329
X-WR-TIMEZONE:America/Chicago
BEGIN:VTIMEZONE
TZID:America/Chicago
BEGIN:STANDARD
TZNAME:CST
DTSTART:20251102T020000
TZOFFSETFROM:-0500
TZOFFSETTO:-0600
RDATE:20261101T020000
END:STANDARD
BEGIN:DAYLIGHT
TZNAME:CDT
DTSTART:20250309T020000
TZOFFSETFROM:-0600
TZOFFSETTO:-0500
RDATE:20260308T020000
RDATE:20270314T020000
END:DAYLIGHT
END:VTIMEZONE
BEGIN:VEVENT
UID:19f2718a-4cde-40b7-b8e9-697c998f5c96
DTSTAMP:20260420T182421Z
DESCRIPTION:For teachers with a spark of an idea (or even a full project al
 ready in motion)\, this in-person workshop is for you!\n\nIf you’re dreami
 ng up a “from scratch” Service Learning project\, we’ll help you shape it 
 into a viable\, fundable plan just in time for our next application season
 .\n\nAlready have a project? Perfect—we’ll show you how to strengthen both
  the service and the learning to make an even bigger impact.
DTSTART;TZID=America/Chicago:20251120T173000
DTEND;TZID=America/Chicago:20251120T183000
LOCATION:
SUMMARY:November Service Learning Homegrown Workshop
END:VEVENT
END:VCALENDAR
