BEGIN:VCALENDAR
VERSION:2.0
PRODID:-//stemlibrarylab.org//NONSGML kigkonsult.se iCalcreator 2.30.10//
CALSCALE:GREGORIAN
METHOD:PUBLISH
UID:a5b6b808-a40f-4b4f-90e1-148ef62578fa
X-WR-CALDESC:
X-WR-RELCALID:01cf65810a1b62e7cf84c5757a9eabbd
X-WR-TIMEZONE:America/Chicago
BEGIN:VTIMEZONE
TZID:America/Chicago
BEGIN:STANDARD
TZNAME:CST
DTSTART:20251102T020000
TZOFFSETFROM:-0500
TZOFFSETTO:-0600
RDATE:20261101T020000
END:STANDARD
BEGIN:DAYLIGHT
TZNAME:CDT
DTSTART:20250309T020000
TZOFFSETFROM:-0600
TZOFFSETTO:-0500
RDATE:20260308T020000
RDATE:20270314T020000
END:DAYLIGHT
END:VTIMEZONE
BEGIN:VEVENT
UID:dbaf5381-987c-4834-b92b-1ed722fa1c79
DTSTAMP:20260420T121855Z
DESCRIPTION:
DTSTART;TZID=America/Chicago:20260112T050000
DTEND;TZID=America/Chicago:20260309T050001
LOCATION:
SUMMARY:Service Learning | Early Grant Application Open
END:VEVENT
END:VCALENDAR
