BEGIN:VCALENDAR
VERSION:2.0
PRODID:-//stemlibrarylab.org//NONSGML kigkonsult.se iCalcreator 2.30.10//
CALSCALE:GREGORIAN
METHOD:PUBLISH
UID:e719078c-8a83-4017-b4eb-255bb0cb4bae
X-WR-CALDESC:Learn practical strategies to increase student ownership\, cho
 ice\, and authentic engagement in project-based learning. This workshop pr
 ovides tools to help students move from passive participants to empowered 
 leaders in meaningful\, standards-aligned projects.\n\nPlus\, the first 20
  teachers who register AND attend the workshop will receive a $25 stipend!
X-WR-RELCALID:a1135fdc7b7fce92978c15566c6877ba
X-WR-TIMEZONE:America/Chicago
BEGIN:VTIMEZONE
TZID:America/Chicago
BEGIN:STANDARD
TZNAME:CST
DTSTART:20251102T020000
TZOFFSETFROM:-0500
TZOFFSETTO:-0600
RDATE:20261101T020000
END:STANDARD
BEGIN:DAYLIGHT
TZNAME:CDT
DTSTART:20260308T020000
TZOFFSETFROM:-0600
TZOFFSETTO:-0500
RDATE:20270314T020000
END:DAYLIGHT
END:VTIMEZONE
BEGIN:VEVENT
UID:0277f6ea-b404-4769-b419-506eb5d9772d
DTSTAMP:20260420T122601Z
DESCRIPTION:Learn practical strategies to increase student ownership\, choi
 ce\, and authentic engagement in project-based learning. This workshop pro
 vides tools to help students move from passive participants to empowered l
 eaders in meaningful\, standards-aligned projects.\n\nPlus\, the first 20 
 teachers who register AND attend the workshop will receive a $25 stipend!
DTSTART;TZID=America/Chicago:20260326T173000
DTEND;TZID=America/Chicago:20260326T183000
LOCATION:3011 N I-10 Service Rd E\, Metairie\, LA 70002 US
SUMMARY:Service Learning | Incorporating Student Voice in Project-Based Lea
 rning
END:VEVENT
END:VCALENDAR
