BEGIN:VCALENDAR
VERSION:2.0
PRODID:-//stemlibrarylab.org//NONSGML kigkonsult.se iCalcreator 2.30.10//
CALSCALE:GREGORIAN
METHOD:PUBLISH
UID:dee754cf-8965-4bd6-affb-9de38e8546a8
X-WR-CALDESC:Get help with your Homegrown Service Learning Application! Get
  help with curriculum connections\, activities for implementation\, servic
 e ideas\, budget help\, or just a thought partner for a budding idea. All 
 attendees will receive guaranteed feedback and oppotunities for revisions 
 upon submission of their application.
X-WR-RELCALID:72566c80259170f0961e7357675c7615
X-WR-TIMEZONE:America/Chicago
BEGIN:VTIMEZONE
TZID:America/Chicago
BEGIN:STANDARD
TZNAME:CST
DTSTART:20251102T020000
TZOFFSETFROM:-0500
TZOFFSETTO:-0600
RDATE:20261101T020000
END:STANDARD
BEGIN:DAYLIGHT
TZNAME:CDT
DTSTART:20260308T020000
TZOFFSETFROM:-0600
TZOFFSETTO:-0500
RDATE:20270314T020000
END:DAYLIGHT
END:VTIMEZONE
BEGIN:VEVENT
UID:d9168364-ee59-4d23-b21f-c902aa02d2a6
DTSTAMP:20260420T105356Z
DESCRIPTION:Get help with your Homegrown Service Learning Application! Get 
 help with curriculum connections\, activities for implementation\, service
  ideas\, budget help\, or just a thought partner for a budding idea. All a
 ttendees will receive guaranteed feedback and oppotunities for revisions u
 pon submission of their application.
DTSTART;TZID=America/Chicago:20260409T173000
DTEND;TZID=America/Chicago:20260409T183000
LOCATION:3011 N I-10 Service Rd E\, Metairie\, LA 70002 US
SUMMARY:Service Learning | In-Person Homegrown Application Help
END:VEVENT
END:VCALENDAR
