BEGIN:VCALENDAR
VERSION:2.0
PRODID:-//stemlibrarylab.org//NONSGML kigkonsult.se iCalcreator 2.30.10//
CALSCALE:GREGORIAN
METHOD:PUBLISH
UID:5dbe1f3d-a55d-4a37-ae53-b7523cd36f27
X-WR-CALDESC:Learn about our Ready-to-Go Service Learning Grants. These tur
 n-key projects feature one page applications\, standards-aligned curriculu
 m\, established community partnerships with a pre-determined service!
X-WR-RELCALID:e14187dd598b02720e0d00a1950bc196
X-WR-TIMEZONE:America/Chicago
BEGIN:VTIMEZONE
TZID:America/Chicago
BEGIN:STANDARD
TZNAME:CST
DTSTART:20251102T020000
TZOFFSETFROM:-0500
TZOFFSETTO:-0600
RDATE:20261101T020000
END:STANDARD
BEGIN:DAYLIGHT
TZNAME:CDT
DTSTART:20260308T020000
TZOFFSETFROM:-0600
TZOFFSETTO:-0500
RDATE:20270314T020000
END:DAYLIGHT
END:VTIMEZONE
BEGIN:VEVENT
UID:01b25b7b-7671-4736-886b-f25b23bda4d8
DTSTAMP:20260420T105339Z
DESCRIPTION:Learn about our Ready-to-Go Service Learning Grants. These turn
 -key projects feature one page applications\, standards-aligned curriculum
 \, established community partnerships with a pre-determined service!
DTSTART;TZID=America/Chicago:20260423T173000
DTEND;TZID=America/Chicago:20260423T183000
LOCATION:3011 N I-10 Service Rd E\, Metairie\, LA 70002 US
SUMMARY:Service Learning | Ready-to-Go Project Overview
END:VEVENT
END:VCALENDAR
